BEGIN:VCALENDAR
PRODID:NingEventWidget-v1
VERSION:2.0
METHOD:PUBLISH
BEGIN:VEVENT
UID:5167423:Event:64601
DTSTAMP:20260422T170317Z
SUMMARY:Norwin Hills Car Cruise
DESCRIPTION:ch week, Cruise every Saturdays thru November or till the 
 snow flys,There is a $3 yearly fee requested for mall insurance covera
 ge for the cruise season. Sign up and join the Norwin Hills Cruisers. 
 Make your donation to Gary Kee for the insurance and Norwin Hills Shop
 ping Center information on rules and regulations. SORRY, THE Shopping 
 Center DOES NOT ALLOW SOLICITING OF ANY KIND. Great Rotation of local 
 DJ's like Jeff Allen and Georgio, Kid DoWap and more!…\n\nMention yo
 u saw this on: Northeast Wheels Events\n\nFor more information visit h
 ttps://northeastwheelsevents.com/events/norwin-hills-car-cruise-908
DTSTART:20150516T213000Z
DTEND:20150517T013000Z
CATEGORIES:cruise
LOCATION:Norwin Hills Shopping Center
WEBSITE:
URL:
CONTACT:724-875-9722
ORGANIZER:Gary Kees
ATTACH;FMTTYPE="image/jpeg":http://storage.ning.com/topology/rest/1.0/
 file/get/2284065648?profile=original
ATTENDEE;ROLE=REQ-PARTICIPANT;PARTSTAT=ACCEPTED;RSVP=TRUE;CN="Bryce Ca
 hill":https://northeastwheelsevents.com/profile/BryceCahill
END:VEVENT
END:VCALENDAR
