BEGIN:VCALENDAR
PRODID:NingEventWidget-v1
VERSION:2.0
METHOD:PUBLISH
BEGIN:VEVENT
UID:5167423:Event:1120
DTSTAMP:20260423T001534Z
SUMMARY:Nostalgia Nights
DESCRIPTION:1st Annual \" Hot Wheels Drag Racing Tournament \" sponser
 ed by Wheels in Motion\n\nFor more information visit https://northeast
 wheelsevents.com/events/nostalgia-nights-1
DTSTART:20100904T210000Z
DTEND:20100905T010000Z
CATEGORIES:"car show"
LOCATION:High Street
WEBSITE:http://www.pottstownclassics.com
URL:http://www.pottstownclassics.com
CONTACT:
ORGANIZER;CN="Tony Ziemba Jr":https://northeastwheelsevents.com/profil
 e/TonyZiembaJr
ATTACH;FMTTYPE="image/jpeg":http://storage.ning.com/topology/rest/1.0/
 file/get/2160570367?profile=original
ATTENDEE;ROLE=REQ-PARTICIPANT;PARTSTAT=ACCEPTED;RSVP=TRUE;CN="Tony Zie
 mba Jr":https://northeastwheelsevents.com/profile/TonyZiembaJr
END:VEVENT
END:VCALENDAR
