BEGIN:VCALENDAR
PRODID:NingEventWidget-v1
VERSION:2.0
METHOD:PUBLISH
BEGIN:VEVENT
UID:5167423:Event:333101
DTSTAMP:20260422T134514Z
SUMMARY:Nutley Rotary 6th Annual Car and Motorcycle Show
DESCRIPTION:6th Annual Car and Motorcycle Show.\nStreet style event wi
 th over 200 cars, trucks and motorcycles.\nOver 100 trophies for pre 1
 939 to present.\n2 DJ's , live band, 10 food vendors and other special
  quests.\nSave the date!\n\nFor more information visit https://northea
 stwheelsevents.com/events/nutley-rotary-6th-annual-car-and-motorcycle-
 show
DTSTART:20240915T170000Z
DTEND:20240915T220000Z
CATEGORIES:car, and, motorcycle, show
LOCATION:343 Franklin Avenue
WEBSITE:
URL:
CONTACT:20123484575
ORGANIZER;CN="John Monaco":https://northeastwheelsevents.com/profile/J
 ohnMonaco185
ATTACH;FMTTYPE="image/jpeg":https://storage.ning.com/topology/rest/1.0
 /file/get/12874128884?profile=original
ATTENDEE;ROLE=REQ-PARTICIPANT;PARTSTAT=ACCEPTED;RSVP=TRUE;CN="John Mon
 aco":https://northeastwheelsevents.com/profile/JohnMonaco185
END:VEVENT
END:VCALENDAR
