BEGIN:VCALENDAR
PRODID:NingEventWidget-v1
VERSION:2.0
METHOD:PUBLISH
BEGIN:VEVENT
UID:5167423:Event:317438
DTSTAMP:20260422T052640Z
SUMMARY:Nutley Rotary Car and Motorcycle Show
DESCRIPTION:Fun filled day along Franklin Avenue in Nutley.\nWell over
  200 cars, trucks and motorcycles will be in attendance.\nOver 75 trop
 hies for stock and modified in all classes.from pre 1939 to present.\n
 Numerous food vendors , 2 DJs and a live band.\n\n\nFor more informati
 on visit https://northeastwheelsevents.com/events/nutley-rotary-car-an
 d-motorcycle-show-3
DTSTART:20230917T170000Z
DTEND:20230917T220000Z
CATEGORIES:car, and, motorcycle, show, fundraiser
LOCATION:Franklin Avenue Nutley NJ 07110
WEBSITE:http://entrance Vincent Place Nutley NJ 07110
URL:http://entrance Vincent Place Nutley NJ 07110
CONTACT:2012484575
ORGANIZER;CN="John Monaco":https://northeastwheelsevents.com/profile/J
 ohnMonaco185
ATTACH;FMTTYPE="image/jpeg":https://storage.ning.com/topology/rest/1.0
 /file/get/12150057093?profile=original
ATTENDEE;ROLE=REQ-PARTICIPANT;PARTSTAT=ACCEPTED;RSVP=TRUE;CN="John Mon
 aco":https://northeastwheelsevents.com/profile/JohnMonaco185
END:VEVENT
END:VCALENDAR
