BEGIN:VCALENDAR
PRODID:NingEventWidget-v1
VERSION:2.0
METHOD:PUBLISH
BEGIN:VEVENT
UID:5167423:Event:67538
DTSTAMP:20260421T080333Z
SUMMARY:NYIT 3rd Annual Car Show
DESCRIPTION:This a car show put together by college students attending
  NYIT in the Society of Automotive Engineers Club. All proceeds go to 
 the Wounded Warrior Project. There is a registration fee of $10 for al
 l cars registered. This also goes to the Wounded Warrior Project. No f
 ee for spectators. There will be food, music, and prizes. To REGISTER 
 your car for the show please email Evan Perrino at eperrino@nyit.edu. 
 All trucks, cars, and motorcycles are welcomed. \n\nFor more informat
 ion visit https://northeastwheelsevents.com/events/nyit-3rd-annual-car
 -show
DTSTART:20150426T150000Z
DTEND:20150426T190000Z
CATEGORIES:car, show
LOCATION:NYIT Old Westbury Campus (3rd parking lot)
WEBSITE:
URL:
CONTACT:(516) 404-7558
ORGANIZER;CN="Evan Perrino":https://northeastwheelsevents.com/profile/
 EvanPerrino
ATTACH;FMTTYPE="image/jpeg":http://storage.ning.com/topology/rest/1.0/
 file/get/2284069997?profile=original
ATTENDEE;ROLE=REQ-PARTICIPANT;PARTSTAT=ACCEPTED;RSVP=TRUE;CN="Evan Per
 rino":https://northeastwheelsevents.com/profile/EvanPerrino
END:VEVENT
END:VCALENDAR
