BEGIN:VCALENDAR
PRODID:NingEventWidget-v1
VERSION:2.0
METHOD:PUBLISH
BEGIN:VEVENT
UID:5167423:Event:325924
DTSTAMP:20260425T215404Z
SUMMARY:OCEAN CITY CRUISERS CAR SHOW
DESCRIPTION:No Rain Date\nKick off Car Show for Ocean City, MD Cruise 
 Week!\nOpen to all Vehicles\n$10 Registration\nAwards at 3PM\nAt the\n
 COFFEE BEANERY\nOCEAN CITY\n9403 Coastal Hwy and 94th Street\nOcean Pl
 aza  Mall\nOcean City,  MD 21842\nShow Benefits Local Charities\nThr
 oughout the Eastern Shore\n \n\nFor more information visit https://no
 rtheastwheelsevents.com/events/ocean-city-cruisers-car-show
DTSTART:20240515T160000Z
DTEND:20240515T190000Z
CATEGORIES:car, show, fundraiser
LOCATION:Ocean Plaza Mall
WEBSITE:https://occruzers.com/
URL:https://occruzers.com/
CONTACT:443-223-1099
ORGANIZER:Danny Verrette
ATTACH;FMTTYPE="image/jpeg":https://storage.ning.com/topology/rest/1.0
 /file/get/12404425100?profile=original
ATTENDEE;ROLE=REQ-PARTICIPANT;PARTSTAT=ACCEPTED;RSVP=TRUE;CN="Becky Pu
 lley":https://northeastwheelsevents.com/profile/BeckyPulley
END:VEVENT
END:VCALENDAR
