BEGIN:VCALENDAR
PRODID:NingEventWidget-v1
VERSION:2.0
METHOD:PUBLISH
BEGIN:VEVENT
UID:5167423:Event:17409
DTSTAMP:20260422T034048Z
SUMMARY:OCTANE 2013
DESCRIPTION:Octane 2013 – a pre-owned Classic, Exotic and Performanc
 e pre-owned Car Show and Sale\nat the Georgia World Congress Center in
  Atlanta on January 12-13th!  \n\nThis event will be held the same w
 eekend and in the same hall as the Atlanta Boat Show hosted by Progres
 sive. $7 car show or $16 for both events!\nThe very best of classic, e
 xotic  and performance cars and related products and services – fro
 m wheels to sound – will be available!  \n \n\nFor more informatio
 n visit https://northeastwheelsevents.com/events/octane-2013
DTSTART:20130112T150000Z
DTEND:20130113T230000Z
CATEGORIES:classic, exotic, "&", performance, car, show, sale
LOCATION:Georgia World Congress Center - Hall C-1
WEBSITE:http://www.gwcc.com/directions/directions/BuildingC.aspx
URL:http://www.gwcc.com/directions/directions/BuildingC.aspx
CONTACT:for booth space call 404-568-6580
ORGANIZER:AutoTrader Classics
ATTACH;FMTTYPE="image/jpeg":http://storage.ning.com/topology/rest/1.0/
 file/get/2284049046?profile=original
ATTENDEE;ROLE=REQ-PARTICIPANT;PARTSTAT=ACCEPTED;RSVP=TRUE;CN="Angela M
 eeks":https://northeastwheelsevents.com/profile/AngelaMeeks
END:VEVENT
END:VCALENDAR
