BEGIN:VCALENDAR
PRODID:NingEventWidget-v1
VERSION:2.0
METHOD:PUBLISH
BEGIN:VEVENT
UID:5167423:Event:334585
DTSTAMP:20260423T104826Z
SUMMARY:Octoberfest Truck Meet
DESCRIPTION:OCTOBERFEST 24’🚨  We’re back at Palmer Motorsports 
 Park on October 26th. Bigger Burnout Pit, Dyno Competition, Huge Cash 
 Prizes, mobile bar, take a lap around the track with one of our profes
 sional videographers‼️ All trucks welcome: 4x4, street rods, low r
 iders, mini pickups. Rat rods, etc.  $25 a person… preregistration 
 begins this Wednesday at 7:00 PM We’ll see you there🤝🏼 for inf
 o. and preregistration: saltcitydiesels@gmail.com\r\nHot Merch: https:
 //saltcitydiesels.com/;\r\nhttps://www.palmermotorsportspark.com/;\n\n
 For more information visit https://northeastwheelsevents.com/events/oc
 toberfest-truck-meet
DTSTART:20241026T160000Z
DTEND:20241026T220000Z
CATEGORIES:carshow
LOCATION:Palmer Motorsports Park
WEBSITE:https://allevents.in/ware/octoberfest-truck-meet/2000270783121
 46
URL:https://allevents.in/ware/octoberfest-truck-meet/200027078312146
CONTACT:860-797-4508
ORGANIZER:Salt City Diesels
ATTACH;FMTTYPE="image/jpeg":https://storage.ning.com/topology/rest/1.0
 /file/get/12988632486?profile=original
ATTENDEE;ROLE=REQ-PARTICIPANT;PARTSTAT=ACCEPTED;RSVP=TRUE;CN="William 
 Bruce":https://northeastwheelsevents.com/profile/WilliamBruce
END:VEVENT
END:VCALENDAR
