BEGIN:VCALENDAR
PRODID:NingEventWidget-v1
VERSION:2.0
METHOD:PUBLISH
BEGIN:VEVENT
UID:5167423:Event:344608
DTSTAMP:20260425T210328Z
SUMMARY:Oktoberfest Muscle and Classic Car Showdown
DESCRIPTION:OPEN TO ALL CLASSIC and MODERN MUSCLE CARS, STREET RODS, R
 AT RODS, ANTIQUES, RACE CARS and CLASSICS!! No year restrictions!!   O
 ktoberfest Weekend and Car Show\r\nThe Chester Lions Club Oktoberfest 
 Weekend & Car Show is two days filled with great food, music, and fami
 ly fun – all while supporting a great cause! Guests can stroll throu
 gh rows of stunning vehicles at the classic Car Show, featuring everyt
 hing from antiques and muscle cars to custom builds and motorcycles.  
 Throughout the weekend, enjoy live music by Die Spitzbaum of New York,
  whose traditional oompah sounds set the perfect festive mood. Authent
 ic German food is served fresh, including bratwurst, sauerkraut, potat
 o salad, pretzels, and sweet treats like apple strudel and beehive cak
 es. Pair your meal with a cold German or domestic beer, hard cider, or
  other refreshing beverages under our large tented seating area.  The 
 event also includes family-friendly activities for kids, with games, r
 ides, and crafts to keep them entertained. Guests can look forward to 
 lively traditional German dancers performing throughout the weekend, a
 dding even more spirit and authenticity to the celebration.  With deli
 cious food, live entertainment, a vibrant car show, and plenty of acti
 vities for all ages, Oktoberfest is a true community celebration that 
 promises fun for the whole family. \r\n\n\nFor more information visit
  https://northeastwheelsevents.com/events/oktoberfest-muscle-and-class
 ic-car-showdown-1
DTSTART:20250927T040000Z
DTEND:20250929T035900Z
CATEGORIES:festival, car, show
LOCATION:Beer Line @ Oktoberfest,
WEBSITE:https://allevents.in/chester/oktoberfest-weekend-and-car-show/
 200028669717711
URL:https://allevents.in/chester/oktoberfest-weekend-and-car-show/2000
 28669717711
CONTACT:https://msha.ke/chesterlionsnj/
ORGANIZER:Chester Lions Club, NJ
ATTACH;FMTTYPE="image/jpeg":https://storage.ning.com/topology/rest/1.0
 /file/get/13717762679?profile=original
ATTENDEE;ROLE=REQ-PARTICIPANT;PARTSTAT=ACCEPTED;RSVP=TRUE;CN="William 
 Bruce":https://northeastwheelsevents.com/profile/WilliamBruce
END:VEVENT
END:VCALENDAR
