BEGIN:VCALENDAR
PRODID:NingEventWidget-v1
VERSION:2.0
METHOD:PUBLISH
BEGIN:VEVENT
UID:5167423:Event:70438
DTSTAMP:20260422T161346Z
SUMMARY:Old Fashioned 4th of July
DESCRIPTION:We’re keeping the Museum open late on July 4th! Tour the
  Museum from 5 to 9 pm for just $7.00 per person. Don’t forget your 
 blankets and chairs to enjoy an old-fashioned picnic on the grass whil
 e you await the fireworks by Hersheypark. Perched up on the hill overl
 ooking the town of Hershey, this is the perfect place to stay and watc
 h the fireworks!\nWe currently have an ice cream and beverage vendor t
 hat is scheduled to be with us or feel free to bring your own snacks. 
 No alcoholic beverages permitted.\n\nFor more information visit https:
 //northeastwheelsevents.com/events/old-fashioned-4th-of-july
DTSTART:20150704T210000Z
DTEND:20150705T010000Z
CATEGORIES:community
LOCATION:AACA Museum
WEBSITE:http://www.aacamuseum.org/old-fashioned-july-4th-2/
URL:http://www.aacamuseum.org/old-fashioned-july-4th-2/
CONTACT:7175667100
ORGANIZER;CN="AACA Museum":https://northeastwheelsevents.com/profile/A
 ACAMuseum553
ATTACH;FMTTYPE="image/jpeg":http://storage.ning.com/topology/rest/1.0/
 file/get/2284071837?profile=original
ATTENDEE;ROLE=REQ-PARTICIPANT;PARTSTAT=ACCEPTED;RSVP=TRUE;CN="AACA Mus
 eum":https://northeastwheelsevents.com/profile/AACAMuseum553
END:VEVENT
END:VCALENDAR
