BEGIN:VCALENDAR
PRODID:NingEventWidget-v1
VERSION:2.0
METHOD:PUBLISH
BEGIN:VEVENT
UID:5167423:Event:107246
DTSTAMP:20260425T104007Z
SUMMARY:Old Homes Day Car Show
DESCRIPTION:First annual Monroe Hose Co Car Show in Monroeton Pa for o
 ur Old Homes Day Carnival June 8th -11 th \nRegistration will begin b
 efore 12:00 pm and Trophy Presentation will be at 3:00 pm for Best Of 
 show with other awards and prizes\n\n\nFor more information visit http
 s://northeastwheelsevents.com/events/old-homes-day-car-show
DTSTART:20160611T160000Z
DTEND:20160611T200000Z
CATEGORIES:monroe, hose, co, car, show, and, carnival
LOCATION:Bradford County route 220 going towards  Canton at the Monroe
 ton Hose Park
WEBSITE:
URL:
CONTACT:570-250-9518
ORGANIZER;CN="Reno Blasingim":https://northeastwheelsevents.com/profil
 e/RenoBlasingim
ATTACH;FMTTYPE="image/jpeg":http://storage.ning.com/topology/rest/1.0/
 file/get/2147324572?profile=original
ATTENDEE;ROLE=REQ-PARTICIPANT;PARTSTAT=ACCEPTED;RSVP=TRUE;CN="Reno Bla
 singim":https://northeastwheelsevents.com/profile/RenoBlasingim
END:VEVENT
END:VCALENDAR
