BEGIN:VCALENDAR
PRODID:NingEventWidget-v1
VERSION:2.0
METHOD:PUBLISH
BEGIN:VEVENT
UID:5167423:Event:62004
DTSTAMP:20260423T104805Z
SUMMARY:Old Sled Works Fun Run
DESCRIPTION:This event will run all weekend. Some stated that Saturday
  Dec 13 is better for them and some liked the 14th. So whatever date w
 orks for you plan accordingly. I will be there on the 14th...  They ar
 e open from 10am to 5pm both days! Its a great place browse and meet u
 p with friends since car shows are over for the season.  Just a friend
 ly meet up to see new members ,have lunch and browse some vintage stuf
 f... hope to see some of you there. If weather is appropriate, please 
 bring your classic, hot rod, muscle car, or whatever gets your ass the
 re.\n\nClick here for the Facebook Event Page\n \nHope to see you the
 re!\n\nFor more information visit https://northeastwheelsevents.com/ev
 ents/old-sled-works-fun-run
DTSTART:20141213T050000Z
DTEND:20141215T045900Z
CATEGORIES:fun, run
LOCATION:Duncannon, Pa
WEBSITE:
URL:
CONTACT:
ORGANIZER;CN="Troy White":https://northeastwheelsevents.com/profile/Tr
 oyWhite
ATTACH;FMTTYPE="image/jpeg":http://storage.ning.com/topology/rest/1.0/
 file/get/2284064795?profile=original
ATTENDEE;ROLE=REQ-PARTICIPANT;PARTSTAT=ACCEPTED;RSVP=TRUE;CN="Troy Whi
 te":https://northeastwheelsevents.com/profile/TroyWhite
END:VEVENT
END:VCALENDAR
