BEGIN:VCALENDAR
PRODID:NingEventWidget-v1
VERSION:2.0
METHOD:PUBLISH
BEGIN:VEVENT
UID:5167423:Event:60860
DTSTAMP:20260423T104954Z
SUMMARY:\"Old Spokes Auto Museum Run\" (Carlisle MINI Cooper Club)
DESCRIPTION:Join Carlisle MINI for this late Fall Run and drive around
  the countryside near Hamburg.  The Run will officially start at Cabe
 las at the intersection of Route 78 and 61 (100 Cabela Dr, Hamburg, PA
  19526).\n\nMeetup time is tentative for 9:30 AM.  The event will con
 clude at Old Spokes Auto Museum in New Smithville PA, featuring great 
 old Hudson Automobiles and collectibles.  The owner will be giving Ca
 rlisle MINI attendees a tour of the museum and garage area for a cost 
 of $8 per person, payable on arrival.\n\nVisit the museum at www.oldsp
 okes.com and see you Saturday!\n\nFor more information visit https://n
 ortheastwheelsevents.com/events/old-spokes-auto-museum-run-carlisle-mi
 ni-cooper-club
DTSTART:20141122T143000Z
DTEND:20141122T180000Z
CATEGORIES:mini, cooper, drive, and, museum, tour
LOCATION:Cabelas (100 Cabela Drive, Hamburg, PA 19526)
WEBSITE:http://www.meetup.com/CarlisleMINI/events/216825742/
URL:http://www.meetup.com/CarlisleMINI/events/216825742/
CONTACT:
ORGANIZER;CN="Tom Long":https://northeastwheelsevents.com/profile/TomL
 ong
ATTACH;FMTTYPE="image/jpeg":
ATTENDEE;ROLE=REQ-PARTICIPANT;PARTSTAT=ACCEPTED;RSVP=TRUE;CN="Tom Long
 ":https://northeastwheelsevents.com/profile/TomLong
END:VEVENT
END:VCALENDAR
