BEGIN:VCALENDAR
PRODID:NingEventWidget-v1
VERSION:2.0
METHOD:PUBLISH
BEGIN:VEVENT
UID:5167423:Event:173601
DTSTAMP:20260424T000049Z
SUMMARY:Ontelaunee Region AACA Monthly Meeting
DESCRIPTION:If you have an interest in antique vehicles, our family of
  enthusiasts could be just the group you are looking for.  Our club e
 njoys car shows, group touring, picnics and a whole lot more.  You do
 n't have to own an antique vehicle to be part of the group, just an in
 terest in having fun.\n\nFor more information visit https://northeastw
 heelsevents.com/events/ontelaunee-region-aaca-monthly-meeting
DTSTART:20180311T000000Z
DTEND:20180311T013000Z
CATEGORIES:antique, car, club, meeting
LOCATION:New Jerusalem Zion United Church of Christ
WEBSITE:http://www.njzucc.org
URL:http://www.njzucc.org
CONTACT:610-823-4656
ORGANIZER;CN="Lester Manwiller":https://northeastwheelsevents.com/prof
 ile/LesterManwiller
ATTACH;FMTTYPE="image/jpeg":
ATTENDEE;ROLE=REQ-PARTICIPANT;PARTSTAT=ACCEPTED;RSVP=TRUE;CN="Lester M
 anwiller":https://northeastwheelsevents.com/profile/LesterManwiller
END:VEVENT
END:VCALENDAR
