BEGIN:VCALENDAR
PRODID:NingEventWidget-v1
VERSION:2.0
METHOD:PUBLISH
BEGIN:VEVENT
UID:5167423:Event:248991
DTSTAMP:20260419T091425Z
SUMMARY:Orchard Park Lions Club Quaker days Car & Motorcycle Show & Cr
 uise
DESCRIPTION:On Saturday July 27th from 11am - 4:30pm the Orchard Park 
 Lions Club will be holding their 25th Annual Orchard Park Lions Club Q
 uaker Days Car & Motorcycle Show & Cruise on North Buffalo Street in t
 he Village of Orchard Park. Last year’s show was another great succe
 ss. This year there will be 22 car and motorcycle classes with 105 awa
 rds given. Cars will register for the show at the Orchard Park High Sc
 hool parking lot on Baker Rd starting at 8:30 am and Cruise to the sho
 w at 11am. There will be live music by Joe & the Shmoes, food and many
  Quaker Community Days events, including a Street Dance on Saturday ni
 ght at the Orchard Park Library. Car entry registration cost for pre-r
 egistration is $18.00 and $20.00 the day of the show. All proceeds ben
 efit the Orchard Park Lions Club Blind & Charity Fund. Entries and the
  spectators are welcomed and encouraged to attend and celebrate our 25
 th show. Pre-registrations recommended due to a space limitation of 20
 0 cars. Call Tony Zappia at 716-662-1806 or 479-5169 or Matt Schutt at
  646-6162 for more information.\n\nFor more information visit https://
 northeastwheelsevents.com/events/orchard-park-lions-club-quaker-days-c
 ar-amp-motorcycle-show-amp
DTSTART:20190727T123000Z
DTEND:20190727T203000Z
CATEGORIES:car, "&amp", motorcycle, show
LOCATION:North Buffalo St Village of Orchard Park, NY
WEBSITE:
URL:
CONTACT:716-479-5169
ORGANIZER;CN="TONY ZAPPIA":https://northeastwheelsevents.com/profile/T
 ONYZAPPIA
ATTACH;FMTTYPE="image/jpeg":
ATTENDEE;ROLE=REQ-PARTICIPANT;PARTSTAT=ACCEPTED;RSVP=TRUE;CN="TONY ZAP
 PIA":https://northeastwheelsevents.com/profile/TONYZAPPIA
END:VEVENT
END:VCALENDAR
