BEGIN:VCALENDAR
PRODID:NingEventWidget-v1
VERSION:2.0
METHOD:PUBLISH
BEGIN:VEVENT
UID:5167423:Event:23607
DTSTAMP:20260422T190227Z
SUMMARY:Orphans Classics Reunion Sunday Car Show
DESCRIPTION:\n\nFor more information visit https://northeastwheelseven
 ts.com/events/orphans-classics-reunion-sunday-car-show
DTSTART:20130623T130000Z
DTEND:20130623T190000Z
CATEGORIES:car, show
LOCATION:Marjorie Post Park,Massapequa,NY
WEBSITE:
URL:
CONTACT:Bob: 1-631-834-6785 randreoc@optonline.net Roger 1-631-724-138
 2
ORGANIZER:Long Island Studebaker Driver's Club
ATTACH;FMTTYPE="image/jpeg":http://storage.ning.com/topology/rest/1.0/
 file/get/2284050762?profile=original
ATTENDEE;ROLE=REQ-PARTICIPANT;PARTSTAT=ACCEPTED;RSVP=TRUE;CN="Pamela H
 irschhorn":https://northeastwheelsevents.com/profile/PamelaHirschhorn
END:VEVENT
END:VCALENDAR
