BEGIN:VCALENDAR
PRODID:NingEventWidget-v1
VERSION:2.0
METHOD:PUBLISH
BEGIN:VEVENT
UID:5167423:Event:143710
DTSTAMP:20260420T134245Z
SUMMARY:Outlaws Rumble at the Grove + King of the Street + Mid Atlanti
 c Street Outlaws
DESCRIPTION:\n\nFor more information visit https://northeastwheelseven
 ts.com/events/outlaws-rumble-at-the-grove-king-of-the-street-mid-atlan
 tic
DTSTART:20170617T040000Z
DTEND:20170618T035900Z
CATEGORIES:race
LOCATION:Maple Grove Raceway
WEBSITE:http://www.maplegroveraceway.com/
URL:http://www.maplegroveraceway.com/
CONTACT:(610) 856-9200
ORGANIZER:
ATTACH;FMTTYPE="image/jpeg":http://storage.ning.com/topology/rest/1.0/
 file/get/2284094685?profile=original
ATTENDEE;ROLE=REQ-PARTICIPANT;PARTSTAT=ACCEPTED;RSVP=TRUE;CN="Christop
 her Gosney":https://northeastwheelsevents.com/profile/ChristopherGosne
 y
END:VEVENT
END:VCALENDAR
