BEGIN:VCALENDAR
PRODID:NingEventWidget-v1
VERSION:2.0
METHOD:PUBLISH
BEGIN:VEVENT
UID:5167423:Event:172938
DTSTAMP:20260424T121923Z
SUMMARY:Pennsylvania Auto Show
DESCRIPTION:With more than 30 manufacturers on display, don't miss the
  PA Auto Show. Whether you are in the market for a new vehicle, want t
 o check out the latest in automotive technology, or just love cars, th
 e Pennsylvania Auto Show is the place to be.  Come see hundreds of ne
 w cars, trucks, sport/utility vehicles, alternative fuel vehicles and 
 more that will turn the PA Farm Show Complex into an automotive showro
 om. Visit a showcase of certified pre-owned vehicles for a chance to w
 in a vehicle worth at least $25,000 or even get behind the wheel of a 
 hot new ride and take it for a spin.\nHours:\nThurs.   1 pm - 9 pm\n
 Fri.        10 am - 9 pm\nSat.       10 am - 9 pm\nSun. 
      10 am - 5 pm\n\nFor more information visit https://northeast
 wheelsevents.com/events/pa-auito-show
DTSTART:20180125T180000Z
DTEND:20180129T020000Z
CATEGORIES:auto, show
LOCATION:Pennsylvania Farm Show
WEBSITE:https://www.autoshowharrisburg.com/
URL:https://www.autoshowharrisburg.com/
CONTACT:717 910-4090
ORGANIZER:Harrisburg Automotive Trade Association
ATTACH;FMTTYPE="image/jpeg":
ATTENDEE;ROLE=REQ-PARTICIPANT;PARTSTAT=ACCEPTED;RSVP=TRUE;CN="Car Show
 s Little Helper":https://northeastwheelsevents.com/profile/CarShowsLit
 tleHelper
END:VEVENT
END:VCALENDAR
