BEGIN:VCALENDAR
PRODID:NingEventWidget-v1
VERSION:2.0
METHOD:PUBLISH
BEGIN:VEVENT
UID:5167423:Event:336153
DTSTAMP:20260421T093037Z
SUMMARY:PA MALL MEET- NeXgen Car show
DESCRIPTION:Nexgen Car Show – PA  Mall Meat Inside VIP Ticket\r\n29
 /03/2025\r\n29 WYOMING VALLEY MALL, WILKES-BARRE TOWNSHIP, PA 18702\r\
 nTime : 1:00 pm – 6:00 pm\r\n\r\nPrice: $25 per car.\r\nNo registrat
 ion required, just show up and park in the outdoor showcase area.\r\nV
 IP INSIDE the mall or OUTSIDE front of Mall – Limited Spots Availab
 le.\r\nNo ticket needed; payment is made upon arrival\r\nRegister at w
 ww.nexgencarshows.com\r\nSpectators free! \r\nDeepest Team $1000 priz
 e! \r\nLow Car Limbo\r\n2 Step Competition\r\nPrize Money.\r\nRaffles
  and Giveaways\r\n\n\nFor more information visit https://northeastwhee
 lsevents.com/events/pa-mall-meet-nexgen-car-show
DTSTART:20250329T170000Z
DTEND:20250329T220000Z
CATEGORIES:carshow
LOCATION:WYOMING VALLEY MALL
WEBSITE:https://www.nexgencarshows.com/product/nexgen-inside-vip-ticke
 t-03-29-2025-2/
URL:https://www.nexgencarshows.com/product/nexgen-inside-vip-ticket-03
 -29-2025-2/
CONTACT:203-778-3663
ORGANIZER:NeXgen
ATTACH;FMTTYPE="image/jpeg":https://storage.ning.com/topology/rest/1.0
 /file/get/13207427274?profile=original
ATTENDEE;ROLE=REQ-PARTICIPANT;PARTSTAT=ACCEPTED;RSVP=TRUE;CN="William 
 Bruce":https://northeastwheelsevents.com/profile/WilliamBruce
END:VEVENT
END:VCALENDAR
