BEGIN:VCALENDAR
PRODID:NingEventWidget-v1
VERSION:2.0
METHOD:PUBLISH
BEGIN:VEVENT
UID:5167423:Event:314622
DTSTAMP:20260422T100327Z
SUMMARY:Pagoda Hillclimb
DESCRIPTION:Please join us for the Pagoda Hillclimb, which will be hel
 d June 24-25, 2023 in Reading, PA. This is the third event in the Penn
 sylvania Hillclimb Association (PHA) Champion Series. It is an SCCA sa
 nctioned event and is hosted by the Blue Mountain Region SCCA.  Regist
 ration for this event is online only, and will be open May 30 on motor
 sportreg.com -- search for Pagoda Hillclimb.  Camping is allowed at th
 is event, but will be at the tower on skyline drive and not in the pit
  area. We will have a food vendor serving breakfast and lunch both day
 s. The event also has great spectator areas along the course.   Please
  see the PHA Website for more information. See the Rules Menu for car 
 classes and preparation rules, and the Current Schedule/Results Menu f
 or registration links and the full series schedule. Or look under the 
 About PHA menu for contacts if you have questions.\n\nFor more informa
 tion visit https://northeastwheelsevents.com/events/pagoda-hillclimb-1
DTSTART:20230624T120000Z
DTEND:20230625T220000Z
CATEGORIES:"scca hillclimb", racing
LOCATION:Reading, PA
WEBSITE:https://pahillclimb.org/
URL:https://pahillclimb.org/
CONTACT:
ORGANIZER:PA Hillclimb Association, Blue Mountain Region SCCA
ATTACH;FMTTYPE="image/jpeg":https://storage.ning.com/topology/rest/1.0
 /file/get/11128560693?profile=original
ATTENDEE;ROLE=REQ-PARTICIPANT;PARTSTAT=ACCEPTED;RSVP=TRUE;CN="PA Hillc
 limb Association":https://northeastwheelsevents.com/profile/PAHillclim
 bAssociation
END:VEVENT
END:VCALENDAR
