BEGIN:VCALENDAR
PRODID:NingEventWidget-v1
VERSION:2.0
METHOD:PUBLISH
BEGIN:VEVENT
UID:5167423:Event:323410
DTSTAMP:20260420T121858Z
SUMMARY:Pagoda Hillclimb Reading, PA
DESCRIPTION:A hillclimb run under Sports Car Club of America and Penns
 ylvania Hillclimb Association rules with electronic timing to the thou
 sandth of a second.\n\nFor more information visit https://northeastwhe
 elsevents.com/events/pagoda-hillclimb-reading-pa
DTSTART:20240622T040000Z
DTEND:20240624T035900Z
CATEGORIES:hillclimb
LOCATION:At the bottom of Duryea Drive.
WEBSITE:http://www.google.com/maps/place/Reading+Pagoda/@40.3362335,-7
 5.910987,17z/data=!4m6!3m5!1s0x89c677549d799b3b:0x352455a114cf2039!8m2
 !3d40.3360659!4d-75.905644!16s%2Fm%2F0gffgmk?entry=ttu
URL:http://www.google.com/maps/place/Reading+Pagoda/@40.3362335,-75.91
 0987,17z/data=!4m6!3m5!1s0x89c677549d799b3b:0x352455a114cf2039!8m2!3d4
 0.3360659!4d-75.905644!16s%2Fm%2F0gffgmk?entry=ttu
CONTACT:
ORGANIZER:Blue Mountain Region SCCA
ATTACH;FMTTYPE="image/jpeg":https://storage.ning.com/topology/rest/1.0
 /file/get/12324100687?profile=original
ATTENDEE;ROLE=REQ-PARTICIPANT;PARTSTAT=ACCEPTED;RSVP=TRUE;CN="Donald M
 cLaughlin":https://northeastwheelsevents.com/profile/DonaldMcLaughlin
END:VEVENT
END:VCALENDAR
