BEGIN:VCALENDAR
PRODID:NingEventWidget-v1
VERSION:2.0
METHOD:PUBLISH
BEGIN:VEVENT
UID:5167423:Event:60257
DTSTAMP:20260423T222055Z
SUMMARY:Pajama Party and The Polar Express
DESCRIPTION:Come join us at the AACA Museum as a railroad conductor wi
 ll greet you and stamp your golden ticket. Visitors will enjoy a tour 
 of the AACA Museum including the Polar Express model train display alo
 ng with several other train displays, holiday trees, specialty vehicle
 s and more in our holiday wonderland. Pajamas, pillows, blankets and s
 tuffed animals are encouraged! Admission to this event includes some k
 id friendly food – hot dogs, popcorn, cookies, hot chocolate and piz
 za. Enjoy the movie – one of the modern day classics “The Polar E
 xpress” right here inside the AACA Museum. Movie will begin @ 7:00 
 PM. Advance tickets required. Regular Admission $15, Children 4-12 Yea
 rs – $10, Children 3 & Under are FREE.\n\nFor more information visit
  https://northeastwheelsevents.com/events/pajama-party-and-the-polar-e
 xpress
DTSTART:20141205T230000Z
DTEND:20141206T020000Z
CATEGORIES:seasonal
LOCATION:AACA Museum
WEBSITE:http://www.aacamuseum.org/polar-express-pajama-party-600-900-p
 m/
URL:http://www.aacamuseum.org/polar-express-pajama-party-600-900-pm/
CONTACT:717-566-7100
ORGANIZER;CN="AACA Museum":https://northeastwheelsevents.com/profile/A
 ACAMuseum553
ATTACH;FMTTYPE="image/jpeg":http://storage.ning.com/topology/rest/1.0/
 file/get/2284064049?profile=original
ATTENDEE;ROLE=REQ-PARTICIPANT;PARTSTAT=ACCEPTED;RSVP=TRUE;CN="AACA Mus
 eum":https://northeastwheelsevents.com/profile/AACAMuseum553
END:VEVENT
END:VCALENDAR
