BEGIN:VCALENDAR
PRODID:NingEventWidget-v1
VERSION:2.0
METHOD:PUBLISH
BEGIN:VEVENT
UID:5167423:Event:38376
DTSTAMP:20260424T023953Z
SUMMARY:Palmerton Car Show \"The Return\"
DESCRIPTION:Dash Plaques to the first 100 Cars!!!Awards will be presen
 ted in the following categories:1.   Best Convertible2.   Boy's Ch
 oice...Ages 13 to 16 3.   Girl's Choice...Ages 13 to 164.   Best P
 aint Job 5.   Best Pickup Truck:6.   Best Graphics7.   Best Stre
 et Rod 8.   Borough Council Choice (Chosen by a member of the local 
 Borough Council)9.   Mayors Choice (Chose by the Mayor of Palmerton)
 10. Best Grocery Getter (Chosen by the women of the Pace-Makers)11. Hi
 ghest 4x4Truck (Ground to highest part of cab).12. Best Motorcycle13.
 Best Rat Rod14. Furthest Driven15. Best Getaway Car16. Best Engine
 17. Best Interior18. Best Tuner Car (Foreign or Domestic)19. Best 
 Under Construction.”20. Best Pro Street21. Best Muscle Car22. B
 est Corvette23. Best Late Model (2000 and Up)24. Pace-Makers Associa
 tion Award25. Best of ShowFurther Information:  • Registration wi
 ll start at 10am at the Palmerton Borough Park.• Registration Fee w
 ill be $10.00• This is a FUN SHOW ONLY!!!  There will NOT be a “
 Rolling” Cruise.• Judging will occur from 12pm-2pm.• Vehicle w
 inners will be given a certificate and may bring them to the Gazebo in
  the park between by 2:30 pm to receive their award at 3 PM.• This 
 is a FUN CRUISE!!! All judges will be members of the community and wil
 l have little or no experience judging vehicles.\nTo register as a Cra
 ft Vendor please contact Renee at 610-547-2665 or Doris at 610-703-855
 0\nAll Proceeds Benefit Local Youth Recreational and Sports Organizati
 ons.Join us in helping make this GREAT community event a success!\n\nF
 or more information visit https://northeastwheelsevents.com/events/pal
 merton-car-show-the-return
DTSTART:20140614T140000Z
DTEND:20140614T190000Z
CATEGORIES:benefit, for, area, recreation, "&", sports
LOCATION:Palmerton Borough Park
WEBSITE:http://clubs.hemmings.com/pace-maker/
URL:http://clubs.hemmings.com/pace-maker/
CONTACT:610-826-3393
ORGANIZER;CN="Andrew Cordell":https://northeastwheelsevents.com/profil
 e/AndrewCordell
ATTACH;FMTTYPE="image/jpeg":http://storage.ning.com/topology/rest/1.0/
 file/get/2284056047?profile=original
ATTENDEE;ROLE=REQ-PARTICIPANT;PARTSTAT=ACCEPTED;RSVP=TRUE;CN="Andrew C
 ordell":https://northeastwheelsevents.com/profile/AndrewCordell
END:VEVENT
END:VCALENDAR
