BEGIN:VCALENDAR
PRODID:NingEventWidget-v1
VERSION:2.0
METHOD:PUBLISH
BEGIN:VEVENT
UID:5167423:Event:158674
DTSTAMP:20260422T231536Z
SUMMARY:PARMA PIZZA CRUISE IN
DESCRIPTION:WE HAVE A GREAT CRUISE IN ON THE FIRST SUNDAY OF EVERY MON
 TH. 5 TO 7 P.M. THERE IS A $5.OO DONATION. THERE ARE TROPHIES AND DOOR
  PRIZES. MUSIC, GREAT FOOD AND FUN. EACH REG. CAR RECEIVES  20% OFF D
 INNER. COME AND JOIN US FOR A GREAT TIME. THERESA\n\n\nFor more inform
 ation visit https://northeastwheelsevents.com/events/parma-pizza-cruis
 e-in
DTSTART:20170806T210000Z
DTEND:20170806T230000Z
CATEGORIES:cruise, in, and, fundraiser, wounded, warriors
LOCATION:PARMA PIZZA, YORK PA
WEBSITE:
URL:
CONTACT:
ORGANIZER;CN="THERESA ADAMSKI":https://northeastwheelsevents.com/profi
 le/THERESAADAMSKI
ATTACH;FMTTYPE="image/jpeg":http://storage.ning.com/topology/rest/1.0/
 file/get/2284099969?profile=original
ATTENDEE;ROLE=REQ-PARTICIPANT;PARTSTAT=ACCEPTED;RSVP=TRUE;CN="THERESA 
 ADAMSKI":https://northeastwheelsevents.com/profile/THERESAADAMSKI
END:VEVENT
END:VCALENDAR
