BEGIN:VCALENDAR
PRODID:NingEventWidget-v1
VERSION:2.0
METHOD:PUBLISH
BEGIN:VEVENT
UID:5167423:Event:154712
DTSTAMP:20260423T015921Z
SUMMARY:Patriot's Pride
DESCRIPTION:\n\nFor more information visit https://northeastwheelseven
 ts.com/events/patriot-s-pride
DTSTART:20170702T160000Z
DTEND:20170702T210000Z
CATEGORIES:car, show
LOCATION:Michael Debbi Park
WEBSITE:
URL:
CONTACT:609-364-7303
ORGANIZER:Dave
ATTACH;FMTTYPE="image/jpeg":
ATTENDEE;ROLE=REQ-PARTICIPANT;PARTSTAT=ACCEPTED;RSVP=TRUE;CN="Benjamin
  Notaro":https://northeastwheelsevents.com/profile/BenjaminNotaro
END:VEVENT
END:VCALENDAR
