BEGIN:VCALENDAR
PRODID:NingEventWidget-v1
VERSION:2.0
METHOD:PUBLISH
BEGIN:VEVENT
UID:5167423:Event:144538
DTSTAMP:20260423T015224Z
SUMMARY:Patriots's pride Car Show
DESCRIPTION:\n\nFor more information visit https://northeastwheelseven
 ts.com/events/patriots-s-pride-car-show
DTSTART:20170702T181500Z
DTEND:20170702T184500Z
CATEGORIES:car, show
LOCATION:Michael Debbi Park
WEBSITE:
URL:
CONTACT:Dave 609-364-7303
ORGANIZER:South Jersey Cruisers Association
ATTACH;FMTTYPE="image/jpeg":http://storage.ning.com/topology/rest/1.0/
 file/get/2284098250?profile=original
ATTENDEE;ROLE=REQ-PARTICIPANT;PARTSTAT=ACCEPTED;RSVP=TRUE;CN="Benjamin
  Notaro":https://northeastwheelsevents.com/profile/BenjaminNotaro
END:VEVENT
END:VCALENDAR
