BEGIN:VCALENDAR
PRODID:NingEventWidget-v1
VERSION:2.0
METHOD:PUBLISH
BEGIN:VEVENT
UID:5167423:Event:336454
DTSTAMP:20260419T194451Z
SUMMARY:Peconic Region AACA 25th Annual Swap Meet
DESCRIPTION:The Peconic Region AACA Swap Meet will return to Southhold
  Town Recreational Center at 970 Peconic Lane, Peconic, New York 11935
 . Sponsored by the Pecobic Region/ AACA on the Eastern End of Long Isl
 and, New York. February 16, 2025 8:00am- 2:00pm. Swap meet for car par
 ts and automobilia. Heated indoor event. Vendors table: $30.00, Entry 
 Cost: $5.00, To register call Roger Wisniski at 516-457-5884 or call J
 anet Tinnin at 631-208-6725 or e-mail us at charliedesign@aol.com. Pos
 tal Mail: Peconic Bay Region AACA, P.O.Box 719 Cutchogue, N.Y. 11935 N
 ew Members Welcome!  https://pbr.aaca.com Visit us on Facebook! \n\n
 For more information visit https://northeastwheelsevents.com/events/pe
 conic-region-aaca-25th-annual-swap-meet
DTSTART:20250216T130000Z
DTEND:20250216T190000Z
CATEGORIES:swap, meet
LOCATION:Southhold Town Recreational Center
WEBSITE:https://www.hemmings.com/events/detail?listing_id=64839
URL:https://www.hemmings.com/events/detail?listing_id=64839
CONTACT:631-208-6725
ORGANIZER:Janet Tinnin
ATTACH;FMTTYPE="image/jpeg":https://storage.ning.com/topology/rest/1.0
 /file/get/12372449087?profile=original
ATTENDEE;ROLE=REQ-PARTICIPANT;PARTSTAT=ACCEPTED;RSVP=TRUE;CN="William 
 Bruce":https://northeastwheelsevents.com/profile/WilliamBruce
END:VEVENT
END:VCALENDAR
