BEGIN:VCALENDAR
PRODID:NingEventWidget-v1
VERSION:2.0
METHOD:PUBLISH
BEGIN:VEVENT
UID:5167423:Event:174400
DTSTAMP:20260425T061839Z
SUMMARY:Penn State Berks SAE Baja's Annual Car, Truck and Motorcycle S
 how
DESCRIPTION:This show is to help raise money for the SAE Baja team her
 e at Penn State Berks for their material and travel fee for when they 
 go to competition. The Pre-Registration fee is $10 and the Day at the 
 Show is $12. There are door prizes for show vehicles and awards for to
 p three vehicles! The trophies are Best In Show Car, Best in Show Truc
 k and Best Overall in Show.  \n\nFor more information visit https://
 northeastwheelsevents.com/events/penn-state-berks-sae-baja-s-annual-ca
 r-truck-and-motorcycle-show
DTSTART:20180407T160000Z
DTEND:20180407T190000Z
CATEGORIES:car, show, fundraiser
LOCATION:Penn State Berks
WEBSITE:http://https://www.google.com/maps/place/Penn+State+Berks/@40.
 3599511,-75.9783323,17z/data=!3m1!4b1!4m5!3m4!1s0x89c676bf72ad23bb:0x8
 337feae5aff958f!8m2!3d40.359947!4d-75.976149
URL:http://https://www.google.com/maps/place/Penn+State+Berks/@40.3599
 511,-75.9783323,17z/data=!3m1!4b1!4m5!3m4!1s0x89c676bf72ad23bb:0x8337f
 eae5aff958f!8m2!3d40.359947!4d-75.976149
CONTACT:2155109657
ORGANIZER:Tiffany Assanowicz
ATTACH;FMTTYPE="image/jpeg":http://storage.ning.com/topology/rest/1.0/
 file/get/2284114750?profile=original
ATTENDEE;ROLE=REQ-PARTICIPANT;PARTSTAT=ACCEPTED;RSVP=TRUE;CN=Tiffany:h
 ttps://northeastwheelsevents.com/profile/Tiffany
END:VEVENT
END:VCALENDAR
