BEGIN:VCALENDAR
PRODID:NingEventWidget-v1
VERSION:2.0
METHOD:PUBLISH
BEGIN:VEVENT
UID:5167423:Event:133605
DTSTAMP:20260424T022259Z
SUMMARY:Penn State Berks Semi Annual Car Show
DESCRIPTION:This car show is to raise money for the Penn State Berks B
 aja car club.  Basic Info:  -$10 pre-registration -$12 at the door to
  show a car -Free to Spectators -Door Prizes for any one showing a veh
 icle \n\nYou can show up as early as you want. The time is just there
  to give an idea of when to show up. All proceeds go to PSU Berks Baja
  Club. Everyone is welcome! Bring whatever you want even your stock ca
 r! To pre-reg contact Eric Miller on facebook or Matt Devirgilis. Also
  clicking the \"Going\" button will automatically pre-register you. IN
 VITE EVERYONE YOU KNOW!!!\n\nFor more information visit https://northe
 astwheelsevents.com/events/penn-state-berks-semi-annual-car-show
DTSTART:20170408T150000Z
DTEND:20170408T190000Z
CATEGORIES:fundraiser
LOCATION:Penn State Berks Campus
WEBSITE:https://www.facebook.com/events/146716775785291/
URL:https://www.facebook.com/events/146716775785291/
CONTACT:7178750856
ORGANIZER;CN="Eric Miller":https://northeastwheelsevents.com/profile/E
 ricMiller
ATTACH;FMTTYPE="image/jpeg":http://storage.ning.com/topology/rest/1.0/
 file/get/2284090310?profile=original
ATTENDEE;ROLE=REQ-PARTICIPANT;PARTSTAT=ACCEPTED;RSVP=TRUE;CN="Eric Mil
 ler":https://northeastwheelsevents.com/profile/EricMiller
END:VEVENT
END:VCALENDAR
