BEGIN:VCALENDAR
PRODID:NingEventWidget-v1
VERSION:2.0
METHOD:PUBLISH
BEGIN:VEVENT
UID:5167423:Event:334127
DTSTAMP:20260423T071658Z
SUMMARY:PENNAIR RALLYE 3
DESCRIPTION:PennAir Rallye is back for the 3rd year in a row! Sat, Oct
  26 • 10:00 AM. What is the PennAir Rallye you may ask? It is a Road
  Rallye through the back roads of pa in which you are trying to be clo
 sest to a target time while stopping at a few stops along the way for 
 some photos! Although this Rallye is primarily focused on Aircooled VW
  and Porsche it is open to all Vag cars of any year as well as this ye
 ar also any pre-2k cars that would like to join! THIS IS NOT A CAR CRU
 ISE the starts will be staggered, so you will have to count on your na
 vigator who will have a roadbook with all the directions to the differ
 ent photo stops! You have to stop and take a picture at each stop if y
 ou don't want to have a time penalty! The Rallye will be starting and 
 finishing up at Pennair Parts in New Oxford PA for their open house an
 d awards, and cookout! Preregistration is open now  https://www.event
 brite.com/e/pennair-rallye-3-registration-964974904917 .. there will b
 e few if any spots sold the day of (contact me if you don't want to re
 gister through Eventbrite) Stay tuned for the more info! \n\nFor more
  information visit https://northeastwheelsevents.com/events/pennair-ra
 llye-3
DTSTART:20241026T140000Z
DTEND:20241026T180000Z
CATEGORIES:road-rally
LOCATION:Pennair Parts
WEBSITE:https://www.facebook.com/events/5550-carlisle-pike-new-oxford-
 pa-17350-8902-united-states/pennair-rallye-3/410235022028446/
URL:https://www.facebook.com/events/5550-carlisle-pike-new-oxford-pa-1
 7350-8902-united-states/pennair-rallye-3/410235022028446/
CONTACT:888-631-7638
ORGANIZER:Anthony Getty
ATTACH;FMTTYPE="image/jpeg":https://storage.ning.com/topology/rest/1.0
 /file/get/12940681866?profile=original
ATTENDEE;ROLE=REQ-PARTICIPANT;PARTSTAT=ACCEPTED;RSVP=TRUE;CN="William 
 Bruce":https://northeastwheelsevents.com/profile/WilliamBruce
END:VEVENT
END:VCALENDAR
