BEGIN:VCALENDAR
PRODID:NingEventWidget-v1
VERSION:2.0
METHOD:PUBLISH
BEGIN:VEVENT
UID:5167423:Event:100702
DTSTAMP:20260425T214314Z
SUMMARY:Pennsylvania Auto Show 2016
DESCRIPTION:The Pennsylvania Auto Show will be held January 28-January
  31 at the Farm Show Complex in Harrisburg.\n\nThursday, January 28: 1
  p.m. - 9 p.m.\nFriday & Saturday, January 29 & 30: 10 a.m. - 9 p.m.Â 
 Â Â Â Â Â Â Â Â Â Â Â Â Â Â Â Â Â \nSunday, January 31: 10 a.m. - 5 p.
 m.Â \n\nAdmission is $10 for adults, $6 for seniors (62 and older), $6
  for active military and students (with ID â€“ onsite only). Children 
 twelve and younger are admitted for free when accompanied by a paying 
 adult. More information can be found at www.AutoShowHarrisburg.com. Al
 l attendees that order a ticket online or purchase at the box office r
 eceive a free one-year subscription to Motor Trend magazine. <br>\nRep
 resentatives from leading automotive manufacturers will be at the show
  to answer questions and provide information on the latest vehicles. T
 he Pennsylvania Auto Show is presented by the Harrisburg Automotive Tr
 ade Association and produced by Motor Trend Auto Shows, LLC, Premier s
 ponsor Members 1st Federal Credit Union\n\n\n\nOther Features Include:
 \n\nVehicle Giveaway â€“ Enter to win a vehicle with a minimum value o
 f $25,000. Sponsored by Members 1st Federal Credit Union.\n\nÂ \n\nFor
 d Ride and Drive â€“ Auto show attendees will have a chance to sit beh
 ind the wheel and get a real feel for the performance and handling of 
 several new vehicles from Ford, brought to you by Your Quality Plus Fo
 rd Stores.\n\nÂ \n\nToyota Ride and Drive - Auto show attendees will h
 ave a chance to sit behind the wheel and get a real feel for the perfo
 rmance and handling of several new vehicles from Toyota.\n\nÂ \n\nDuPo
 nt Registry Live â€“ See a dazzling collection of exotic vehicles.\n\n
 Â \n\nRolls-Royce & Bentley Foundation Display â€“ Stop by Luxury Hall
  and see luxury vehicles of the past and present (courtesy of Rolls-Ro
 yce Foundation).Â \n\nÂ \n\nAACA Museum & The Elegance at Hershey Disp
 lay â€“ Display of vehicles courtesy of the Antique Automobile Club of
  America Museum & The Elegance at Hershey.Â  Dependent on available sp
 ace.\n\nÂ \n\nZipline â€“ Soar across the auto show on a zipline! Itâ€
 ™s FREE and a great way to see the show.\n\nÂ \n\nKids Entertainment A
 rea Saturday & Sunday â€“ Bring the kids to the auto show so they can 
 experience the Inflatable Tropic Slide and the Moonbounce, plus get yo
 ur face painted and receive a balloon animal. Many activities for kids
  on both days!\n\nÂ \n\nKidâ€™s Test Drive â€“ Mini-electric vehicles 
 allow kids to experience their own test drive right at the show.\n\nÂ 
 \n\nCity Islanders Soccer Team â€“ On Sunday, January 31, thereâ€™ll b
 e a mini soccer clinic plus meet the team mascot and get information o
 n the upcoming 2016 season which starts in March 2016.Â \n\n\nFor more
  information visit https://northeastwheelsevents.com/events/pennsylvan
 ia-auto-show-2016
DTSTART:20160128T180000Z
DTEND:20160131T220000Z
CATEGORIES:auto, show
LOCATION:Farm Show Complex
WEBSITE:http://www.AutoShowHarrisburg.com
URL:http://www.AutoShowHarrisburg.com
CONTACT:2677653726
ORGANIZER;CN="Hannah Clough":https://northeastwheelsevents.com/profile
 /HannahClough
ATTACH;FMTTYPE="image/jpeg":
ATTENDEE;ROLE=REQ-PARTICIPANT;PARTSTAT=ACCEPTED;RSVP=TRUE;CN="Hannah C
 lough":https://northeastwheelsevents.com/profile/HannahClough
END:VEVENT
END:VCALENDAR
