BEGIN:VCALENDAR
PRODID:NingEventWidget-v1
VERSION:2.0
METHOD:PUBLISH
BEGIN:VEVENT
UID:5167423:Event:140129
DTSTAMP:20260423T191029Z
SUMMARY:Pennsylvania Auto Show, Harrisburg
DESCRIPTION:New cars, trucks and SUVs will fill the PA Farm Show Compl
 ex & Expo Center for the 2017 Pennsylvania Auto Show! Thursday, Januar
 y 26 – Sunday, January 29, 2017.\nHours\nThursday 1 pm – 9 pm Frid
 ay 10 am – 9 pm\nSaturday 10 am – 9 pm\nSunday 10 am – 5 pm\n\nF
 or more information visit https://northeastwheelsevents.com/events/pen
 nsylvania-auto-show-harrisburg
DTSTART:20170126T180000Z
DTEND:20170129T220000Z
CATEGORIES:auto, show
LOCATION:PA Farm Show Complex
WEBSITE:http://autoshowharrisburg.com/show-info/
URL:http://autoshowharrisburg.com/show-info/
CONTACT:info@motortrendautoshows.com
ORGANIZER:Motor Trend Auto Shows
ATTACH;FMTTYPE="image/jpeg":http://storage.ning.com/topology/rest/1.0/
 file/get/2284092749?profile=original
ATTENDEE;ROLE=REQ-PARTICIPANT;PARTSTAT=ACCEPTED;RSVP=TRUE;CN="Pamela H
 irschhorn":https://northeastwheelsevents.com/profile/PamelaHirschhorn
END:VEVENT
END:VCALENDAR
