BEGIN:VCALENDAR
PRODID:NingEventWidget-v1
VERSION:2.0
METHOD:PUBLISH
BEGIN:VEVENT
UID:5167423:Event:232934
DTSTAMP:20260421T075009Z
SUMMARY:PEP BOYS SPEED SHOP CRUISI IN
DESCRIPTION:Cars and Coffee , donuts while they last !!!!!\n\nFor more
  information visit https://northeastwheelsevents.com/events/pep-boys-s
 peed-shop-cruisi-in-1
DTSTART:20190209T130000Z
DTEND:20190209T150000Z
CATEGORIES:cars, and, coffee
LOCATION:PEP BOYS YORK PA
WEBSITE:
URL:
CONTACT:717 843 0908
ORGANIZER;CN="William C Heuerman jr":https://northeastwheelsevents.com
 /profile/Williamcheuermanjr
ATTACH;FMTTYPE="image/jpeg":https://storage.ning.com/topology/rest/1.0
 /file/get/925803992?profile=original
ATTENDEE;ROLE=REQ-PARTICIPANT;PARTSTAT=ACCEPTED;RSVP=TRUE;CN="William 
 C Heuerman jr":https://northeastwheelsevents.com/profile/Williamcheuer
 manjr
END:VEVENT
END:VCALENDAR
