BEGIN:VCALENDAR
PRODID:NingEventWidget-v1
VERSION:2.0
METHOD:PUBLISH
BEGIN:VEVENT
UID:5167423:Event:206875
DTSTAMP:20260425T192500Z
SUMMARY:PEP BOYS SPEED SHOP CRUISI IN
DESCRIPTION:THE LAST THURSDAY NIGHT OF THE MONTH OCT . 25TH\nNOV.  29
 TH\nDEC.  27TH\n\nFor more information visit https://northeastwheelse
 vents.com/events/pep-boys-speed-shop-cruisi-in
DTSTART:20181025T220000Z
DTEND:20181026T000000Z
CATEGORIES:cruise, -, in
LOCATION:PEP BOYS YORK PA
WEBSITE:
URL:
CONTACT:717 843 0908
ORGANIZER;CN="William C Heuerman jr":https://northeastwheelsevents.com
 /profile/Williamcheuermanjr
ATTACH;FMTTYPE="image/jpeg":
ATTENDEE;ROLE=REQ-PARTICIPANT;PARTSTAT=ACCEPTED;RSVP=TRUE;CN="William 
 C Heuerman jr":https://northeastwheelsevents.com/profile/Williamcheuer
 manjr
END:VEVENT
END:VCALENDAR
