BEGIN:VCALENDAR
PRODID:NingEventWidget-v1
VERSION:2.0
METHOD:PUBLISH
BEGIN:VEVENT
UID:5167423:Event:125492
DTSTAMP:20260425T092016Z
SUMMARY:Perkasie Under The Stars Car Show
DESCRIPTION:A great local car show with over 400 cars lining the stree
 ts of Perkasie, PA.  \n\nFor more information visit https://northeast
 wheelsevents.com/events/perkasie-under-the-stars-car-show
DTSTART:20160820T210000Z
DTEND:20160821T010000Z
CATEGORIES:car, show
LOCATION:Center of Perkasie
WEBSITE:http://www.facebook.com/GoodTimeMotorvators
URL:http://www.facebook.com/GoodTimeMotorvators
CONTACT:
ORGANIZER:Good Time Motorvators
ATTACH;FMTTYPE="image/jpeg":http://storage.ning.com/topology/rest/1.0/
 file/get/2284089728?profile=original
ATTENDEE;ROLE=REQ-PARTICIPANT;PARTSTAT=ACCEPTED;RSVP=TRUE;CN="Diahann 
 Schuebel":https://northeastwheelsevents.com/profile/DiahannSchuebel
END:VEVENT
END:VCALENDAR
