BEGIN:VCALENDAR
PRODID:NingEventWidget-v1
VERSION:2.0
METHOD:PUBLISH
BEGIN:VEVENT
UID:5167423:Event:303170
DTSTAMP:20260419T121035Z
SUMMARY:Pharoahs Car Club of Jim Thorpe weekly Cruises
DESCRIPTION:Pharoahs car club of Jim Thorpe has a weekly cruises at Ea
 st Penn Sporting Club in Lehighton PA. Along with the car cruise there
  are weekly themes and monthly games as well as guest speakers from ca
 r related small businesses, like car detailing shops. They give great 
 tips for keeping your classic top notch. The cruises run every Wednesd
 ay through October. \n\nFor more information visit https://northeastw
 heelsevents.com/events/pharoahs-car-club-of-jim-thorpe-weekly-cruises
DTSTART:20220713T210000Z
DTEND:20220713T230000Z
CATEGORIES:car, cruise
LOCATION:East Penn Sporting Club
WEBSITE:
URL:
CONTACT:484-347-6579
ORGANIZER;CN="Dean Rompella":https://northeastwheelsevents.com/profile
 /DeanRompella
ATTACH;FMTTYPE="image/jpeg":https://storage.ning.com/topology/rest/1.0
 /file/get/10629494699?profile=original
ATTENDEE;ROLE=REQ-PARTICIPANT;PARTSTAT=ACCEPTED;RSVP=TRUE;CN="Dean Rom
 pella":https://northeastwheelsevents.com/profile/DeanRompella
END:VEVENT
END:VCALENDAR
