BEGIN:VCALENDAR
PRODID:NingEventWidget-v1
VERSION:2.0
METHOD:PUBLISH
BEGIN:VEVENT
UID:5167423:Event:350529
DTSTAMP:20260422T044510Z
SUMMARY:Pharoahsfest 2026 Calverton, Long Island
DESCRIPTION:Drive-In Movie, Pinup Pageant, Car Show, Swap Meet, Vintag
 e Market, Car Clubs of N.Y., Go-karts, Arcade, Ax Throwing, 50/50 Raff
 le, Concession, Restaurant and so much more. Rain Date Saturday May 16
 th.\n\nFor more information visit https://northeastwheelsevents.com/ev
 ents/pharoahsfest-2026-calverton-long-island
DTSTART:20260425T160000Z
DTEND:20260425T220000Z
CATEGORIES:car, show
LOCATION:Scott's Point Adventure Park
WEBSITE:
URL:
CONTACT:PharoahsCCLI@gmail.com (631) 953-2133
ORGANIZER:Pharoahs Car Club Long Island
ATTACH;FMTTYPE="image/jpeg":
ATTENDEE;ROLE=REQ-PARTICIPANT;PARTSTAT=ACCEPTED;RSVP=TRUE;CN="Car Show
 s Little Helper":https://northeastwheelsevents.com/profile/CarShowsLit
 tleHelper
ATTENDEE;ROLE=REQ-PARTICIPANT;PARTSTAT=TENTATIVE;RSVP=TRUE;CN="William
  Bruce":https://northeastwheelsevents.com/profile/WilliamBruce
END:VEVENT
END:VCALENDAR
