BEGIN:VCALENDAR
PRODID:NingEventWidget-v1
VERSION:2.0
METHOD:PUBLISH
BEGIN:VEVENT
UID:5167423:Event:38226
DTSTAMP:20260424T043128Z
SUMMARY:PHAT BOYZ CAR & TRUCK CLUB - CAR SHOW
DESCRIPTION:Phat Boyz Car & Truck car show to benefit The Caring Place
 . All proceeds will benefit programs and activities designed to help 
 young people overcome the pressures and limitations of their environme
 nt.            \n\nRegistration: 9:00 am - Noon\nFee: $20.00\n\n
 Twenty catgories and a six foot trophy for biggest Car Club participat
 ion. \n\n\nFor more information visit https://northeastwheelsevents.c
 om/events/phat-boyz-car-truck-club-car-show
DTSTART:20140614T130000Z
DTEND:20140614T210000Z
CATEGORIES:fundraiser
LOCATION:America On Wheels Auto Museum
WEBSITE:http://www.americaonwheels.org
URL:http://www.americaonwheels.org
CONTACT:610-432-4200
ORGANIZER:Phat Boyz Car & Truck Club
ATTACH;FMTTYPE="image/jpeg":http://storage.ning.com/topology/rest/1.0/
 file/get/2284055998?profile=original
ATTENDEE;ROLE=REQ-PARTICIPANT;PARTSTAT=ACCEPTED;RSVP=TRUE;CN="Maricell
 y DeJesus":https://northeastwheelsevents.com/profile/MaricellyDeJesus
END:VEVENT
END:VCALENDAR
