BEGIN:VCALENDAR
PRODID:NingEventWidget-v1
VERSION:2.0
METHOD:PUBLISH
BEGIN:VEVENT
UID:5167423:Event:139827
DTSTAMP:20260423T165357Z
SUMMARY:Philadelphia Auto Show
DESCRIPTION:SHOW DATES:\nJanuary 28 – February 5, 2017Black Tie Tail
 gate: January 27, 2017\nSHOW HOURS:\nWeekdays: 12noon – 10pmSaturd
 ays: 9am – 10pmSunday, 1/29: 9am – 8pmSunday, 2/5: 9am – 6pm\n\n
 TICKET PRICES:\nGeneral Admission (age 13+): $14.00 BUY NOW!Children
  (age 7-12): $7.00 BUY NOW!Children 6 & under: FREE with ticketed ad
 ult\nDISCOUNT TICKETS:Active Military (with ID): $11.00 (must purchas
 e as box office)Seniors (age 62+): $7.00 (weekdays only – purchase 
 at box office or SEPTA locations)Group Discount (25+ tickets): $11.00
  each\n\n\nFor more information visit https://northeastwheelsevents.co
 m/events/philadelphia-auto-show-1
DTSTART:20170128T000000Z
DTEND:20170205T230000Z
CATEGORIES:car, show
LOCATION:Pennsylvania Convention Center
WEBSITE:http://www.phillyautoshow.com/
URL:http://www.phillyautoshow.com/
CONTACT:(610) 279-5229  /  (800) 759-9533
ORGANIZER:Automobile Dealers Association of Greater Philadelphia
ATTACH;FMTTYPE="image/jpeg":http://storage.ning.com/topology/rest/1.0/
 file/get/2284094359?profile=original
ATTENDEE;ROLE=REQ-PARTICIPANT;PARTSTAT=ACCEPTED;RSVP=TRUE;CN="Pamela H
 irschhorn":https://northeastwheelsevents.com/profile/PamelaHirschhorn
END:VEVENT
END:VCALENDAR
