BEGIN:VCALENDAR
PRODID:NingEventWidget-v1
VERSION:2.0
METHOD:PUBLISH
BEGIN:VEVENT
UID:5167423:Event:172873
DTSTAMP:20260424T105323Z
SUMMARY:Philadelphia Auto Show
DESCRIPTION:New Car Show\nHours: Monday - Friday 12 noon - 10pm\nSatur
 days 9am - 10pm\nSunday, Jan. 28 9am - 8pm\nSunday, Feb. 4   9am - 
 6pm\n\nGeneral admission $14.00\nChildren 7 - 12  $7\nUnder 6 free wi
 th paid adult.\nActive Military ( with current ID ) $11.00\nSeniors 62
 + $7.00 ( weekdays only, purchase at box office of SEPTA locations ) 
 \n\n\nFor more information visit https://northeastwheelsevents.com/eve
 nts/philadelphia-auto-show-2
DTSTART:20180127T050000Z
DTEND:20180205T045900Z
CATEGORIES:auto, show
LOCATION:Pennsylvania Convention Center
WEBSITE:https://www.phillyautoshow.com/show-info/
URL:https://www.phillyautoshow.com/show-info/
CONTACT:
ORGANIZER:Auto Dealers Association of Greater Philadelphia
ATTACH;FMTTYPE="image/jpeg":http://storage.ning.com/topology/rest/1.0/
 file/get/2284101273?profile=original
ATTENDEE;ROLE=REQ-PARTICIPANT;PARTSTAT=ACCEPTED;RSVP=TRUE;CN="Car Show
 s Little Helper":https://northeastwheelsevents.com/profile/CarShowsLit
 tleHelper
END:VEVENT
END:VCALENDAR
