BEGIN:VCALENDAR
PRODID:NingEventWidget-v1
VERSION:2.0
METHOD:PUBLISH
BEGIN:VEVENT
UID:5167423:Event:100371
DTSTAMP:20260425T222558Z
SUMMARY:Philadelphia Auto Show
DESCRIPTION:The Philadelphia Auto Show rolls into the Pennsylvania Con
 vention Center Saturday, Jan. 30, for nine days of automotive awesomen
 ess. See 700 of the world's finest automobiles - from exotics to class
 ics, concepts to production. Experience Camp Jeep's indoor test track 
 or take a ride on the streets of Philadelphia in a Kia, Mazda or Toyot
 a. Don't miss the DUB Show Tour's killer paint jobs, performance mods,
  rims, tints, and sound systems that hit hard.\n\nFor more information
  visit https://northeastwheelsevents.com/events/philadelphia-auto-show
DTSTART:20160130T140000Z
DTEND:20160207T230000Z
CATEGORIES:auto, show
LOCATION:Pennsylvania Convention Center
WEBSITE:http://www.phllyautoshow.com
URL:http://www.phllyautoshow.com
CONTACT:
ORGANIZER:Philadelphia Auto Show
ATTACH;FMTTYPE="image/jpeg":http://storage.ning.com/topology/rest/1.0/
 file/get/2284080831?profile=original
ATTENDEE;ROLE=REQ-PARTICIPANT;PARTSTAT=ACCEPTED;RSVP=TRUE;CN="Philadel
 phia Auto show":https://northeastwheelsevents.com/profile/Philadelphia
 Autoshow
END:VEVENT
END:VCALENDAR
