BEGIN:VCALENDAR
PRODID:NingEventWidget-v1
VERSION:2.0
METHOD:PUBLISH
BEGIN:VEVENT
UID:5167423:Event:342168
DTSTAMP:20260424T113507Z
SUMMARY:PHILADELPHIA MODIFIERS Hot Rod Show 2025
DESCRIPTION:PHILADELPHIA MODIFIERS Hot Rod Show 2025 is held at the Au
 tomotive Training Center 900 Johnsville Blvd. Warminster Pa.  9am-2pm
 , Flea Market & Venders, Food & Music, School Tours!\n\nFor more infor
 mation visit https://northeastwheelsevents.com/events/philadelphia-mod
 ifiers-hot-rod-show-2025
DTSTART:20251004T130000Z
DTEND:20251004T180000Z
CATEGORIES:car, show
LOCATION:The Automotive Training Center
WEBSITE:
URL:
CONTACT:
ORGANIZER;CN="Jimmy Ivers":https://northeastwheelsevents.com/profile/J
 immyIvers
ATTACH;FMTTYPE="image/jpeg":https://storage.ning.com/topology/rest/1.0
 /file/get/13662137080?profile=original
ATTENDEE;ROLE=REQ-PARTICIPANT;PARTSTAT=ACCEPTED;RSVP=TRUE;CN="Jimmy Iv
 ers":https://northeastwheelsevents.com/profile/JimmyIvers
ATTENDEE;ROLE=REQ-PARTICIPANT;PARTSTAT=TENTATIVE;RSVP=TRUE;CN="William
  Bruce":https://northeastwheelsevents.com/profile/WilliamBruce
END:VEVENT
END:VCALENDAR
