BEGIN:VCALENDAR
PRODID:NingEventWidget-v1
VERSION:2.0
METHOD:PUBLISH
BEGIN:VEVENT
UID:5167423:Event:346645
DTSTAMP:20260424T144526Z
SUMMARY:Philadelphia Modifiers Hot Rod Show and Swap Meet 2026
DESCRIPTION:Come out and have some fun at the Philadelphia Modifiers H
 ot Rod Show & Swap Meet 2026! Being held at the Automotive Training Ce
 nter. 900 Johnsville Blvd. Warminster Pa. From 9am to 2pm. FREE T-SHIR
 T to the first 100 cars! School Tours! Food & Music!\n\nFor more infor
 mation visit https://northeastwheelsevents.com/events/philadelphia-mod
 ifiers-hot-rod-show-amp-swap-meet-2026
DTSTART:20261003T130000Z
DTEND:20261003T180000Z
CATEGORIES:car, show, and, swap, meet
LOCATION:The Automotive Training Center
WEBSITE:
URL:
CONTACT:
ORGANIZER:The Philadelphia Modifiers
ATTACH;FMTTYPE="image/jpeg":https://storage.ning.com/topology/rest/1.0
 /file/get/30991455477?profile=original
ATTENDEE;ROLE=REQ-PARTICIPANT;PARTSTAT=ACCEPTED;RSVP=TRUE;CN="Jimmy Iv
 ers":https://northeastwheelsevents.com/profile/JimmyIvers
END:VEVENT
END:VCALENDAR
