BEGIN:VCALENDAR
PRODID:NingEventWidget-v1
VERSION:2.0
METHOD:PUBLISH
BEGIN:VEVENT
UID:5167423:Event:335266
DTSTAMP:20260423T135602Z
SUMMARY:Phoenix All Stars Trunk or Treat
DESCRIPTION:Trunk or Treat Extravaganza! đźŤ¬Join us for a spooktacula
 r evening of family fun at our annual Trunk or Treat event! Dress up i
 n your favorite costumes and come out for a safe and fun-filled Hallow
 een celebration.đź‘» What to Expect:Bring your classic cars, trucks an
 d bikes!Â \r\nđźŤ¬Decorated Trunks: Stroll through our creatively deco
 rated cars, each offering a unique theme and plenty of treats!đźŤ¬Brin
 g Your Own Decorated Trunk: Get creative and bring your own decorated 
 trunk to join in the fun! Whether itâ€™s spooky, silly, or somewhere i
 n between, we canâ€™t wait to see your designs. (Donâ€™t forget the tr
 eats for the kids!)đźŤ¬Candy Galore: Tons of candy and goodies for the
  little ones (and adults too!).đźŤ¬Games & Activities: Enjoy Halloween
 -themed games, crafts, and more.đźŤ¬Best Trunk Contest: Show off your 
 amazing trunks for a chance to win exciting prizes!đź“… Date: Saturday
 , October 12thâŹ° Time: 4pm-6pmđź“Ť Location: Conrad Weiser Middle Sch
 oolBring your family, friends, and neighbors for an evening of spooky 
 fun thatâ€™s sure to be a treat for everyone! Donâ€™t miss out on this
  fantastic Halloween event. If youâ€™d like to participate with your d
 ecorated trunk, please register via the QR code above.See you there! đ
 źŽ‰\n\nFor more information visit https://northeastwheelsevents.com/ev
 ents/phoenix-all-stars-trunk-or-treat
DTSTART:20241012T200000Z
DTEND:20241012T220000Z
CATEGORIES:trunkortreat, cruise-in
LOCATION:Conrad Weiser Middle School
WEBSITE:https://allevents.in/robesonia/trunk-or-treat/200027170330135
URL:https://allevents.in/robesonia/trunk-or-treat/200027170330135
CONTACT:610-693-8514
ORGANIZER:Conrad Weiser Middle School
ATTACH;FMTTYPE="image/jpeg":https://storage.ning.com/topology/rest/1.0
 /file/get/13012342665?profile=original
ATTENDEE;ROLE=REQ-PARTICIPANT;PARTSTAT=ACCEPTED;RSVP=TRUE;CN="William 
 Bruce":https://northeastwheelsevents.com/profile/WilliamBruce
END:VEVENT
END:VCALENDAR
