BEGIN:VCALENDAR
PRODID:NingEventWidget-v1
VERSION:2.0
METHOD:PUBLISH
BEGIN:VEVENT
UID:5167423:Event:192811
DTSTAMP:20260419T204022Z
SUMMARY:Pied Piper Diner
DESCRIPTION:CAR SHOW , MUSIC, 50/50 , AND DOOR PRIZES\n AND GOOD FOOD
 \n\n\nFor more information visit https://northeastwheelsevents.com/eve
 nts/pied-piper-diner
DTSTART:20180715T220000Z
DTEND:20180716T000000Z
CATEGORIES:car, show
LOCATION:BARTO
WEBSITE:
URL:
CONTACT:484 515 4665
ORGANIZER;CN="Sheila Jessum":https://northeastwheelsevents.com/profile
 /SheilaJessum
ATTACH;FMTTYPE="image/jpeg":
ATTENDEE;ROLE=REQ-PARTICIPANT;PARTSTAT=ACCEPTED;RSVP=TRUE;CN="Sheila J
 essum":https://northeastwheelsevents.com/profile/SheilaJessum
END:VEVENT
END:VCALENDAR
