BEGIN:VCALENDAR
PRODID:NingEventWidget-v1
VERSION:2.0
METHOD:PUBLISH
BEGIN:VEVENT
UID:5167423:Event:18309
DTSTAMP:20260421T110046Z
SUMMARY:Pittsburgh International Auto Show -Pittsburgh, PA
DESCRIPTION:At the David L Lawrence Convention Center 207 Sigma Drive 
 zip: 15238. Event Friday/Saturday 10:00 am - 10:00 pm Sunday/Monday 10
 ;00 am - 6:00 pm e-mail: info@pittsburghauto.org or http://www.pitt
 sburghauto.org/pata/main.cfm?section=auto\n\n\nFor more information vi
 sit https://northeastwheelsevents.com/events/pittsburgh-international-
 auto-show-pittsburgh-pa
DTSTART:20130215T050000Z
DTEND:20130219T045900Z
CATEGORIES:auto-show
LOCATION:David L Lawrence Convention Center
WEBSITE:http://www.pittsburghauto.org/pata/main.cfm?section=auto
URL:http://www.pittsburghauto.org/pata/main.cfm?section=auto
CONTACT:412- 963-8909 fax: 412-963-1106
ORGANIZER:Pittsburgh Auto Show
ATTACH;FMTTYPE="image/jpeg":
ATTENDEE;ROLE=REQ-PARTICIPANT;PARTSTAT=ACCEPTED;RSVP=TRUE;CN="Michael 
 Thies":https://northeastwheelsevents.com/profile/MichaelThies
END:VEVENT
END:VCALENDAR
