BEGIN:VCALENDAR
PRODID:NingEventWidget-v1
VERSION:2.0
METHOD:PUBLISH
BEGIN:VEVENT
UID:5167423:Event:246991
DTSTAMP:20260419T213616Z
SUMMARY:Pittsburgh Vintage Grand Prix
DESCRIPTION:Race Weekend Car Show at Schenley Park\nThe Car Show occur
 s at Schenley Park on the July 21/22 weekend.  World-wide is the best
  word to describe the International Car Show that transpires on the f
 airways of Schenley Park over race weekend. The golf course constitute
 s one giant car show made up of many separate shows hosted by the Gran
 d Prix and the many car clubs.\n\nFor more information visit https://n
 ortheastwheelsevents.com/events/pittsburgh-vintage-grand-prix-7
DTSTART:20190721T020000Z
DTEND:20190721T210000Z
CATEGORIES:car, show
LOCATION:Schenley Park
WEBSITE:https://www.pvgp.org/car-shows/car-show-overview/
URL:https://www.pvgp.org/car-shows/car-show-overview/
CONTACT:412-559-3500
ORGANIZER:Dan Delbianco
ATTACH;FMTTYPE="image/jpeg":
ATTENDEE;ROLE=REQ-PARTICIPANT;PARTSTAT=ACCEPTED;RSVP=TRUE;CN="Jerry Lo
 ngstreth":https://northeastwheelsevents.com/profile/JerryLongstreth
END:VEVENT
END:VCALENDAR
