BEGIN:VCALENDAR
PRODID:NingEventWidget-v1
VERSION:2.0
METHOD:PUBLISH
BEGIN:VEVENT
UID:5167423:Event:20701
DTSTAMP:20260421T063958Z
SUMMARY:Pittsburgh Vintage Grand Prix Race Week
DESCRIPTION:\n\nThe Pittsburgh Vintage Grand Prix, presented by Shop â
 €˜n Save, started out as a single single day race in Schenley Park in 
 1983. Our tribute to motorsport history culminates that magical weeken
 d, our event has blossomed into a 10-day celebration spanning six venu
 es and two counties. Â The complete Grand Prix schedule can be found o
 n our website. Basically it is two weekends of vintage racing with sup
 porting car shows and events in between. There is also a Kick-Off Rall
 ye that occurs on July 8, outside the 10 day window.\n\n\n\n\nFor more
  information visit https://northeastwheelsevents.com/events/pittsburgh
 -vintage-grand-prix-race-week
DTSTART:20130712T220000Z
DTEND:20130721T230000Z
CATEGORIES:car, shows, vintage, racing, cruise
LOCATION:Pittsburgh, PA
WEBSITE:http://www.pvgp.org
URL:http://www.pvgp.org
CONTACT:
ORGANIZER:Pittsburgh Vintage Grand Prix Association
ATTACH;FMTTYPE="image/jpeg":http://storage.ning.com/topology/rest/1.0/
 file/get/2284049599?profile=original
ATTENDEE;ROLE=REQ-PARTICIPANT;PARTSTAT=ACCEPTED;RSVP=TRUE;CN="Pittsbur
 gh Vintage Grand Prix":https://northeastwheelsevents.com/profile/Pitts
 burghVintageGrandPrix
END:VEVENT
END:VCALENDAR
