BEGIN:VCALENDAR
PRODID:NingEventWidget-v1
VERSION:2.0
METHOD:PUBLISH
BEGIN:VEVENT
UID:5167423:Event:23559
DTSTAMP:20260421T212020Z
SUMMARY:Pocono INDYCAR 400 IZOD IndyCar Series
DESCRIPTION:July 6-7, 2013\n*Dates and Times are Tentative and Subject
  to Change\n \n\n\n\nSaturday, July 6, 2013\n\n\n5 am\nParking Lots O
 pen\n\n8 am\nGrandstand Admission Gates Open\n\n9 am\nPractice – Fir
 estone Indy Lights Series Practice\n\n10 am\nPractice – IZOD IndyCar
  Series Practice\n\n12:15\nPractice – Firestone Indy Lights Series P
 ractice\n\n1:30\nQualifying – IZOD IndyCar Series Qualifying\n\n4 pm
 \nFirestone Indy Lights Race (40 Laps, 100 Miles)\n\n5:30 pm \nFinal 
 Practice – IZOD IndyCar Series Final Practice \n\nSunday, July 7, 2
 013\n\n\n5 am\nParking Lots Open\n\n8 am\nGrandstand Admission Gates O
 pen\n\n8 am\nClubs & Suites Open\n\nTBD\nPre-Race Festivities Begin\n\
 nTBD\nDriver Introductions\n\n12:15 pm\nPocono INDYCAR 400 IZOD IndyCa
 r Series Race (160 laps, 400 miles)\n\n\n\n\nFor more information visi
 t https://northeastwheelsevents.com/events/pocono-indycar-400-izod-ind
 ycar-series
DTSTART:20130706T090000Z
DTEND:20130707T230000Z
CATEGORIES:indycar, izod, series
LOCATION:Pocono Raceway,
WEBSITE:http://www.poconoraceway.com/
URL:http://www.poconoraceway.com/
CONTACT:(570) 646-2300
ORGANIZER:Pocono Raceway
ATTACH;FMTTYPE="image/jpeg":http://storage.ning.com/topology/rest/1.0/
 file/get/2284051630?profile=original
ATTENDEE;ROLE=REQ-PARTICIPANT;PARTSTAT=ACCEPTED;RSVP=TRUE;CN="Pamela H
 irschhorn":https://northeastwheelsevents.com/profile/PamelaHirschhorn
END:VEVENT
END:VCALENDAR
