BEGIN:VCALENDAR
PRODID:NingEventWidget-v1
VERSION:2.0
METHOD:PUBLISH
BEGIN:VEVENT
UID:5167423:Event:334055
DTSTAMP:20260422T133536Z
SUMMARY:Pocono Raceway Motorcycle Rides
DESCRIPTION:\r\n\r\nCome ride your motorcycle around Pocono Raceway wi
 th us! By Pocono Mountain Harley-Davidson, Sunday, September 15 · 
 10am - 3pm EDT. Enjoy a beautiful ride up to Pocono Raceway where we'
 ll take a few laps around the track then head back to the dealership f
 or food.\r\n$30 / person *rider and passenger will both need a ticket\
 r\nNet proceeds to benefit VALOR Clinic Foundation. \r\n\r\nRegistrat
 ion 10 AM. Safety Meeting 11 AM. \r\nKickstands up shortly after Safe
 ty Meeting *this will depend on the call from the Raceway that the tra
 ck is ready for us.\r\n\r\nPlease arrive with your tanks and bellies f
 ull. Arrive early, plan for large participation and travel.\r\n\r\nNo 
 refunds unless event is cancelled.\r\n\r\nPocono Mountain Harley-David
 son is located in the heart of the Pocono Mountains in Pennsylvania. A
 side from our immaculate showroom, Parts & Accessories, Service Depart
 ment and HUGE Apparel sections, we hold pretty sweet events! From moto
 rcycle rides, to mac & cheese festivals, we do it all!\r\n\r\nFor ques
 tions or to get in touch with our Marketing & Events Department, pleas
 e email fknipe@poconoharley.com\r\n\r\n\n\nFor more information visit 
 https://northeastwheelsevents.com/events/pocono-raceway-motorcycle-rid
 es
DTSTART:20240915T140000Z
DTEND:20240915T190000Z
CATEGORIES:motorcycle-cruise, charity
LOCATION:Pocono Mountain Harley-Davidson®
WEBSITE:https://www.eventbrite.com/e/pocono-raceway-motorcycle-rides-t
 ickets-863755364547
URL:https://www.eventbrite.com/e/pocono-raceway-motorcycle-rides-ticke
 ts-863755364547
CONTACT:570-992-7500
ORGANIZER:Pocono Mountain Harley-Davidson®
ATTACH;FMTTYPE="image/jpeg":https://storage.ning.com/topology/rest/1.0
 /file/get/12932767277?profile=original
ATTENDEE;ROLE=REQ-PARTICIPANT;PARTSTAT=ACCEPTED;RSVP=TRUE;CN="William 
 Bruce":https://northeastwheelsevents.com/profile/WilliamBruce
END:VEVENT
END:VCALENDAR
